BEGIN:VCALENDAR
VERSION:2.0
PRODID:-//Robert Hall - ECPv6.15.1.1//NONSGML v1.0//EN
CALSCALE:GREGORIAN
METHOD:PUBLISH
X-WR-CALNAME:Robert Hall
X-ORIGINAL-URL:https://roberthallwsnc.com
X-WR-CALDESC:Events for Robert Hall
REFRESH-INTERVAL;VALUE=DURATION:PT1H
X-Robots-Tag:noindex
X-PUBLISHED-TTL:PT1H
BEGIN:VTIMEZONE
TZID:America/New_York
BEGIN:DAYLIGHT
TZOFFSETFROM:-0500
TZOFFSETTO:-0400
TZNAME:EDT
DTSTART:20260308T070000
END:DAYLIGHT
BEGIN:STANDARD
TZOFFSETFROM:-0400
TZOFFSETTO:-0500
TZNAME:EST
DTSTART:20261101T060000
END:STANDARD
END:VTIMEZONE
BEGIN:VEVENT
DTSTART;TZID=America/New_York:20260211T170000
DTEND;TZID=America/New_York:20260211T190000
DTSTAMP:20260419T153020
CREATED:20260113T170723Z
LAST-MODIFIED:20260113T170723Z
UID:1875-1770829200-1770836400@roberthallwsnc.com
SUMMARY:Forsyth Woman Magazine's Galentine's Girls' Night Out at Robert Hall
DESCRIPTION:Grab your girlfriends and join us for one of Forsyth Woman’s monthly Girls’ Night Out events — an evening designed to celebrate friendship\, fun\, and a well-deserved night out. \nThis Galentine’s edition is all about good vibes and even better company. Your $15 ticket gets you in the door to a lively night featuring: \n🩷 A DJ setting the mood \n🩷 A photo booth for the group pics you’ll actually want to post \n🩷 Festive Galentine’s décor throughout the space \n🩷 Small appetizers provided by Robert Hall  \n🩷 A cash bar with signature cocktails and mocktails available for purchase \nPlus\, every Girls’ Night Out includes fun gift card giveaways throughout the evening — because we love a little surprise moment. \nWhether you come with your best friends\, coworkers\, sisters\, or show up solo and leave with new connections\, this event is meant to be easy\, fun\, and low-pressure. No agendas. No awkward networking. Just a great midweek night out. \nSpace is limited\, so grab your tickets early!
URL:https://roberthallwsnc.com/event/forsyth-woman-magazines-galentines-girls-night-out-at-robert-hall/
LOCATION:Robert Hall\, 874 N Liberty St\, Winston-Salem\, NC\, 27101\, United States
CATEGORIES:Community Event
ATTACH;FMTTYPE=image/png:https://roberthallwsnc.com/wp-content/uploads/2026/01/Girls-Night-Out.png
END:VEVENT
END:VCALENDAR