BEGIN:VCALENDAR
VERSION:2.0
PRODID:-//Robert Hall - ECPv6.15.1.1//NONSGML v1.0//EN
CALSCALE:GREGORIAN
METHOD:PUBLISH
X-WR-CALNAME:Robert Hall
X-ORIGINAL-URL:https://roberthallwsnc.com
X-WR-CALDESC:Events for Robert Hall
REFRESH-INTERVAL;VALUE=DURATION:PT1H
X-Robots-Tag:noindex
X-PUBLISHED-TTL:PT1H
BEGIN:VTIMEZONE
TZID:America/New_York
BEGIN:DAYLIGHT
TZOFFSETFROM:-0500
TZOFFSETTO:-0400
TZNAME:EDT
DTSTART:20250309T070000
END:DAYLIGHT
BEGIN:STANDARD
TZOFFSETFROM:-0400
TZOFFSETTO:-0500
TZNAME:EST
DTSTART:20251102T060000
END:STANDARD
BEGIN:DAYLIGHT
TZOFFSETFROM:-0500
TZOFFSETTO:-0400
TZNAME:EDT
DTSTART:20260308T070000
END:DAYLIGHT
BEGIN:STANDARD
TZOFFSETFROM:-0400
TZOFFSETTO:-0500
TZNAME:EST
DTSTART:20261101T060000
END:STANDARD
END:VTIMEZONE
BEGIN:VEVENT
DTSTART;TZID=America/New_York:20260213T180000
DTEND;TZID=America/New_York:20260213T210000
DTSTAMP:20260423T075433
CREATED:20260115T191043Z
LAST-MODIFIED:20260115T191043Z
UID:1886-1771005600-1771016400@roberthallwsnc.com
SUMMARY:Secret Supper Society | Poe on the Rocks
DESCRIPTION:It is with certain delicious darkness that we invite you to Poe on the Rocks—an evening devoted to shadowed romance\, spoken verse\, and plated pleasures best savored by candlelight. \nJoin us on Friday\, February 13th for a Valentine’s gathering inspired by the words and obsessions of Edgar Allan Poe\, where love lingers\, beauty broods\, and the night itself seems to listen. \nTickets to this singular evening are $125 per person and are currently on sale for all Secret Supper Society members. Not a member but interested in joining? Visit our website at www.RobertHallSecretSupperSociety.com. 
URL:https://roberthallwsnc.com/event/poe-on-the-rocks/
LOCATION:Robert Hall\, 874 N Liberty St\, Winston-Salem\, NC\, 27101\, United States
CATEGORIES:Robert Hall Secret Supper Society
ATTACH;FMTTYPE=image/jpeg:https://roberthallwsnc.com/wp-content/uploads/2026/01/Poe-on-The-Rocks-event.jpg
END:VEVENT
BEGIN:VEVENT
DTSTART;TZID=America/New_York:20251211T170000
DTEND;TZID=America/New_York:20251211T210000
DTSTAMP:20260423T075433
CREATED:20251008T190955Z
LAST-MODIFIED:20251112T190051Z
UID:1856-1765472400-1765486800@roberthallwsnc.com
SUMMARY:Secret Supper Society | Christmas Cocktails
DESCRIPTION:As a special thank you to all our members\, we are personally inviting you to join us for an evening of cocktails\, hors d’oeuvres\, and live holiday jazz on Thursday\, December 11th from 5PM to 9PM. Come raise a glass as we celebrate the season\, look forward to an exciting 2026\, and toast to our 4th year of the Secret Supper Society. No tickets are necessary—just bring your holiday spirit and a few guests to share in the cheer. The evening will feature a cash or credit card bar\, and there’s no entry fee. This event is exclusively for members and their guests. Dress to dazzle\, sip something smooth\, and let the jazz set the tone for a festive night at Capone’s. Not a member of the Secret Supper Society but interested in joining? Visit our website at www.RobertHallSecretSupperSociety.com to learn more!
URL:https://roberthallwsnc.com/event/sss-christmas-cocktails/
LOCATION:Capone’s Bar at Robert Hall\, 874 N Liberty St\, Winston-Salem\, NC\, 27101\, United States
CATEGORIES:Robert Hall Secret Supper Society
END:VEVENT
BEGIN:VEVENT
DTSTART;TZID=America/New_York:20251023T180000
DTEND;TZID=America/New_York:20251023T210000
DTSTAMP:20260423T075433
CREATED:20250925T152339Z
LAST-MODIFIED:20250925T152536Z
UID:1851-1761242400-1761253200@roberthallwsnc.com
SUMMARY:Junior League of Winston-Salem Halloween Bingo Bash at The Nash
DESCRIPTION:Join us at The Nash on Thursday\, October 23rd in support of the Junior League of Winston-Salem (JLWS) and their Halloween Bingo Bash! Proceeds support the JLWS’s signature projects: BookWORM\, Strong Women. Strong Families.\, Kids in the Kitchen\, and LEEF grants (Literacy Education & Equity Fund). Additional support is provided to other community programs such as the Forsyth Backpack Program at the Cook Literacy Model School and Crosby Scholars. Learn more and purchase your tickets by visiting https://www.zeffy.com/en-US/ticketing/junior-league-of-winston-salem-presents-the-second-annual-halloween-bingo-event.
URL:https://roberthallwsnc.com/event/bingo-bash/
LOCATION:The Nash\, 840 N Liberty St.\, Winston-Salem\, NC\, 27101\, United States
CATEGORIES:Charity Event,Robert Hall Secret Supper Society,The Nash
ATTACH;FMTTYPE=image/png:https://roberthallwsnc.com/wp-content/uploads/2025/09/Screenshot-2025-09-25-at-11.20.14-AM-e1758813801512.png
END:VEVENT
END:VCALENDAR